BEGIN:VCALENDAR
VERSION:2.0
PRODID:-//Logmotion - ECPv6.15.11//NONSGML v1.0//EN
CALSCALE:GREGORIAN
METHOD:PUBLISH
X-WR-CALNAME:Logmotion
X-ORIGINAL-URL:https://logmotion.nl
X-WR-CALDESC:Evenementen voor Logmotion
REFRESH-INTERVAL;VALUE=DURATION:PT1H
X-Robots-Tag:noindex
X-PUBLISHED-TTL:PT1H
BEGIN:VTIMEZONE
TZID:Europe/Amsterdam
BEGIN:DAYLIGHT
TZOFFSETFROM:+0100
TZOFFSETTO:+0200
TZNAME:CEST
DTSTART:20250330T010000
END:DAYLIGHT
BEGIN:STANDARD
TZOFFSETFROM:+0200
TZOFFSETTO:+0100
TZNAME:CET
DTSTART:20251026T010000
END:STANDARD
BEGIN:DAYLIGHT
TZOFFSETFROM:+0100
TZOFFSETTO:+0200
TZNAME:CEST
DTSTART:20260329T010000
END:DAYLIGHT
BEGIN:STANDARD
TZOFFSETFROM:+0200
TZOFFSETTO:+0100
TZNAME:CET
DTSTART:20261025T010000
END:STANDARD
BEGIN:DAYLIGHT
TZOFFSETFROM:+0100
TZOFFSETTO:+0200
TZNAME:CEST
DTSTART:20270328T010000
END:DAYLIGHT
BEGIN:STANDARD
TZOFFSETFROM:+0200
TZOFFSETTO:+0100
TZNAME:CET
DTSTART:20271031T010000
END:STANDARD
END:VTIMEZONE
BEGIN:VEVENT
DTSTART;TZID=Europe/Amsterdam:20260529T100000
DTEND;TZID=Europe/Amsterdam:20260529T150000
DTSTAMP:20260423T152205
CREATED:20240529T080000Z
LAST-MODIFIED:20260402T115956Z
UID:2222-1780048800-1780066800@logmotion.nl
SUMMARY:Logistiek Carrièredag
DESCRIPTION:Tijdens deze dag kunnen bezoekers kennismaken met de beste werkgevers in de logistieke sector en verschillende vacatures ontdekken. Naast netwerken is er de mogelijkheid om workshops en lezingen te volgen. \nOpzet van de Logistiek Carrièredag:\n– Een dag die studenten niet alleen informeert\, maar activeert: van oriënteren tot solliciteren.\n– Bedrijven in contact brengen met studenten & Young professionals die klaarstaan voor een stage\, traineeship of baan. \nWaarom meedoen als bedrijf:\n– Het grootste carrière-evenement in de logistieke sector.\n– Ontmoet 300 – 500 studenten en young professionals\n– Jullie vacatures op de vacaturewand\n– Inclusief wervingscampagne arbeidsmarktcommunicatie\n– Alle relevante Logistieke opleidingen doen mee \nVoor wie:\nGericht op studenten en Young professionals die hun carrière willen starten\, verdiepen of versnellen. Of je nu MBO\, HBO of WO doet\, voltijd of deeltijd.
URL:https://logmotion.nl/agenda/logistiek-carrieredag/
LOCATION:Kinepolis Jaarbeurs Utrecht\, Jaarbeursboulevard 300\, Utrecht\, 3521 BC\, Netherlands
ATTACH;FMTTYPE=image/jpeg:https://logmotion.nl/wp-content/uploads/2024/05/Header-logistieke-carrieredag-750x750-1.jpg
END:VEVENT
BEGIN:VEVENT
DTSTART;TZID=Europe/Amsterdam:20260602T090000
DTEND;TZID=Europe/Amsterdam:20260602T143000
DTSTAMP:20260423T152205
CREATED:20240602T070000Z
LAST-MODIFIED:20260423T125950Z
UID:2236-1780390800-1780410600@logmotion.nl
SUMMARY:PET Kop Noord-Holland
DESCRIPTION:Het Promotie Evenement Techniek (PET) in Kop Noord-Holland is het event in de regio waar leerlingen kennis maken met de 7 werelden van techniek. Dankzij de samenwerking met bedrijven uit de regio en de inzet van sport\, game-technologie\, Lego en nieuwe technologische snufjes biedt PET Kop Noord-Holland een inspirerend programma waar leerlingen plezier maken en hun talenten kunnen ontdekken. \nIn 2026 is het PET Event op dinsdag 2 juni 2026 bij Scholen aan Zee in Den Helder. Leerlingen van groep 7/8 doen allerlei workshops die een mooie techniekbeleving garanderen. De basisscholen uit de Kop van Noord-Holland worden uitgenodigd om zich aan te melden. \nEr zijn deze dag drie ronden: \nRonde 1: 09.00 – 10.30 uur\nRonde 2: 10.45 – 12.15 uur\nRonde 3: 12.45 – 14.15 uur \nVoor wie:\nLeerlingen groep 7 en 8. \nVervoer: \nZelf regelen. Kom per fiets of per auto. \nKosten: \nDeelname is gratis.
URL:https://logmotion.nl/agenda/pet-kop-noord-holland/
LOCATION:Scholen aan Zee – locatie beroepsonderwijs\, Drs. F. Bijlweg 10\, Den Helder\, 1784MC\, Netherlands
CATEGORIES:Overig
ATTACH;FMTTYPE=image/webp:https://logmotion.nl/wp-content/uploads/2026/04/PET_logo_KOP_NOORD_HOLLAND_500px-640w-e1776948864787.webp
END:VEVENT
BEGIN:VEVENT
DTSTART;TZID=Europe/Amsterdam:20260623T093000
DTEND;TZID=Europe/Amsterdam:20260623T163000
DTSTAMP:20260423T152205
CREATED:20240623T073000Z
LAST-MODIFIED:20251121T110601Z
UID:1752-1782207000-1782232200@logmotion.nl
SUMMARY:Themabijeenkomsten Leren & Werken\, Kiezen en Innoveren
DESCRIPTION:Themabijeenkomsten Logmotion 2025 – Bouw mee aan de toekomst! \nDe themagroepen Logmotion hebben afgelopen jaar prachtige resultaten geboekt\, en we willen samen met jou verder bouwen aan een toekomstbestendig Logmotion. Dit is jouw kans om actief mee te denken en bij te dragen! \n\nKiezen heeft gewerkt aan een nieuw logo\, frisse website en promotie op evenementen en scholen.\nWerken & Leren ontwikkelde innovatieve onderwijsvormen en initiatieven voor duurzame inzetbaarheid.\nInnoveren experimenteerde met educatieve technologie en lanceerde samen met bedrijven vernieuwende projecten.\n\nIn 2025 zetten we deze lijn voort met focus op samenwerken en verbinden. Tijdens de bijeenkomsten ontstaan ideeën en plannen die écht het verschil maken. Doe je mee? \nData & Locaties: \n\nVrijdag 29 augustus – Fieldlab Logmotion\nDinsdag 4 november – Stad Alkmaar\nDinsdag 27 januari – SVZ\nDinsdag 21 april – Bejo Zaden\nDinsdag 23 juni – Fieldlab Logmotion\n\nProgrammering: \n\n09:30 – 12:00: Ochtendprogramma – Leren & Werken\n12:00 – 12:30: Georganiseerde lunch\n12:30 – 14:30: Middagprogramma (deel 1) – Kiezen\n14:30 – 16:30: Middagprogramma (deel 2) – Innoveren\n\n 
URL:https://logmotion.nl/agenda/themabijeenkomsten-leren-werken-kiezen-en-innoveren/
LOCATION:Logmotion\, W.M. Dudokweg 51\, Heerhugowaard\, Noord-Holland\, 1703 DA\, Netherlands
CATEGORIES:Themabijeenkomsten
ATTACH;FMTTYPE=image/jpeg:https://logmotion.nl/wp-content/uploads/2025/09/Naamloos.jpg
END:VEVENT
END:VCALENDAR